BEGIN:VCALENDAR
VERSION:2.0
PRODID:-//North Carolina Youth Orchestra - ECPv6.15.20//NONSGML v1.0//EN
CALSCALE:GREGORIAN
METHOD:PUBLISH
X-WR-CALNAME:North Carolina Youth Orchestra
X-ORIGINAL-URL:https://www.ncyo.com
X-WR-CALDESC:Events for North Carolina Youth Orchestra
REFRESH-INTERVAL;VALUE=DURATION:PT1H
X-Robots-Tag:noindex
X-PUBLISHED-TTL:PT1H
BEGIN:VTIMEZONE
TZID:America/New_York
BEGIN:DAYLIGHT
TZOFFSETFROM:-0500
TZOFFSETTO:-0400
TZNAME:EDT
DTSTART:20210314T070000
END:DAYLIGHT
BEGIN:STANDARD
TZOFFSETFROM:-0400
TZOFFSETTO:-0500
TZNAME:EST
DTSTART:20211107T060000
END:STANDARD
BEGIN:DAYLIGHT
TZOFFSETFROM:-0500
TZOFFSETTO:-0400
TZNAME:EDT
DTSTART:20220313T070000
END:DAYLIGHT
BEGIN:STANDARD
TZOFFSETFROM:-0400
TZOFFSETTO:-0500
TZNAME:EST
DTSTART:20221106T060000
END:STANDARD
BEGIN:DAYLIGHT
TZOFFSETFROM:-0500
TZOFFSETTO:-0400
TZNAME:EDT
DTSTART:20230312T070000
END:DAYLIGHT
BEGIN:STANDARD
TZOFFSETFROM:-0400
TZOFFSETTO:-0500
TZNAME:EST
DTSTART:20231105T060000
END:STANDARD
END:VTIMEZONE
BEGIN:VEVENT
DTSTART;TZID=America/New_York:20220906T183000
DTEND;TZID=America/New_York:20220906T203000
DTSTAMP:20260420T170406
CREATED:20220807T021338Z
LAST-MODIFIED:20220807T021338Z
UID:2519-1662489000-1662496200@www.ncyo.com
SUMMARY:Rehearsal - Orchestra & Prelude Strings
DESCRIPTION:Prelude Strings – 6:30-7:30pm \nOrchestra – 6:30-8:30pm
URL:https://www.ncyo.com/event/rehearsal-orchestra-prelude-strings-2/
LOCATION:Bailey Middle School\, 11900 Bailey Road\, Cornelius\, NC\, 28031\, United States
CATEGORIES:Rehearsals
END:VEVENT
BEGIN:VEVENT
DTSTART;TZID=America/New_York:20220912T173000
DTEND;TZID=America/New_York:20220912T190000
DTSTAMP:20260420T170406
CREATED:20220807T021239Z
LAST-MODIFIED:20220807T021239Z
UID:2517-1663003800-1663009200@www.ncyo.com
SUMMARY:Rehearsal - Brass Ensemble
DESCRIPTION:
URL:https://www.ncyo.com/event/rehearsal-brass-ensemble-2/
LOCATION:Bailey Middle School\, 11900 Bailey Road\, Cornelius\, NC\, 28031\, United States
CATEGORIES:Rehearsals
END:VEVENT
BEGIN:VEVENT
DTSTART;TZID=America/New_York:20220912T191500
DTEND;TZID=America/New_York:20220912T204500
DTSTAMP:20260420T170406
CREATED:20220821T000650Z
LAST-MODIFIED:20220821T000650Z
UID:2647-1663010100-1663015500@www.ncyo.com
SUMMARY:Brass Challenge - Trumpet Class
DESCRIPTION:
URL:https://www.ncyo.com/event/brass-challenge-trumpet-class-2/
LOCATION:Bailey Middle School\, 11900 Bailey Road\, Cornelius\, NC\, 28031\, United States
CATEGORIES:Classes
END:VEVENT
BEGIN:VEVENT
DTSTART;TZID=America/New_York:20220913T183000
DTEND;TZID=America/New_York:20220913T203000
DTSTAMP:20260420T170406
CREATED:20220807T021457Z
LAST-MODIFIED:20220807T021457Z
UID:2521-1663093800-1663101000@www.ncyo.com
SUMMARY:Rehearsal - Orchestra & Prelude Strings
DESCRIPTION:Prelude Strings – 6:30-7:30pm \nOrchestra – 6:30-8:30pm
URL:https://www.ncyo.com/event/rehearsal-orchestra-prelude-strings-3/
LOCATION:Bailey Middle School\, 11900 Bailey Road\, Cornelius\, NC\, 28031\, United States
CATEGORIES:Rehearsals
END:VEVENT
BEGIN:VEVENT
DTSTART;TZID=America/New_York:20220913T191500
DTEND;TZID=America/New_York:20220913T204500
DTSTAMP:20260420T170406
CREATED:20220821T000528Z
LAST-MODIFIED:20220821T000733Z
UID:2645-1663096500-1663101900@www.ncyo.com
SUMMARY:Brass Challenge - Low Brass Class
DESCRIPTION:
URL:https://www.ncyo.com/event/brass-challenge-low-brass-class/
LOCATION:Bailey Middle School\, 11900 Bailey Road\, Cornelius\, NC\, 28031\, United States
CATEGORIES:Classes
END:VEVENT
BEGIN:VEVENT
DTSTART;TZID=America/New_York:20220919T173000
DTEND;TZID=America/New_York:20220919T190000
DTSTAMP:20260420T170406
CREATED:20220807T021604Z
LAST-MODIFIED:20220807T021747Z
UID:2523-1663608600-1663614000@www.ncyo.com
SUMMARY:Rehearsal - Brass Ensemble
DESCRIPTION:
URL:https://www.ncyo.com/event/rehearsal-brass-ensemble-3/
LOCATION:Bailey Middle School\, 11900 Bailey Road\, Cornelius\, NC\, 28031\, United States
CATEGORIES:Rehearsals
END:VEVENT
BEGIN:VEVENT
DTSTART;TZID=America/New_York:20220919T191500
DTEND;TZID=America/New_York:20220919T204500
DTSTAMP:20260420T170406
CREATED:20220821T000845Z
LAST-MODIFIED:20220914T235202Z
UID:2649-1663614900-1663620300@www.ncyo.com
SUMMARY:Brass Challenge - French Horn Class
DESCRIPTION:
URL:https://www.ncyo.com/event/brass-challenge-french-horn-class/
LOCATION:Bailey Middle School\, 11900 Bailey Road\, Cornelius\, NC\, 28031\, United States
CATEGORIES:Classes
END:VEVENT
BEGIN:VEVENT
DTSTART;TZID=America/New_York:20220920T183000
DTEND;TZID=America/New_York:20220920T203000
DTSTAMP:20260420T170406
CREATED:20220807T021826Z
LAST-MODIFIED:20220807T021826Z
UID:2525-1663698600-1663705800@www.ncyo.com
SUMMARY:Rehearsal - Orchestra & Prelude Strings
DESCRIPTION:Prelude Strings – 6:30-7:30pm \nOrchestra – 6:30-8:30pm
URL:https://www.ncyo.com/event/rehearsal-orchestra-prelude-strings-4/
LOCATION:Bailey Middle School\, 11900 Bailey Road\, Cornelius\, NC\, 28031\, United States
CATEGORIES:Rehearsals
END:VEVENT
BEGIN:VEVENT
DTSTART;TZID=America/New_York:20220926T173000
DTEND;TZID=America/New_York:20220926T190000
DTSTAMP:20260420T170406
CREATED:20220807T021906Z
LAST-MODIFIED:20220807T021906Z
UID:2528-1664213400-1664218800@www.ncyo.com
SUMMARY:Rehearsal - Brass Ensemble
DESCRIPTION:
URL:https://www.ncyo.com/event/rehearsal-brass-ensemble-4/
LOCATION:Bailey Middle School\, 11900 Bailey Road\, Cornelius\, NC\, 28031\, United States
CATEGORIES:Rehearsals
END:VEVENT
BEGIN:VEVENT
DTSTART;TZID=America/New_York:20220926T191500
DTEND;TZID=America/New_York:20220926T204500
DTSTAMP:20260420T170406
CREATED:20220821T000951Z
LAST-MODIFIED:20220821T000951Z
UID:2651-1664219700-1664225100@www.ncyo.com
SUMMARY:Brass Challenge - Trumpet Class
DESCRIPTION:
URL:https://www.ncyo.com/event/brass-challenge-trumpet-class-3/
LOCATION:Bailey Middle School\, 11900 Bailey Road\, Cornelius\, NC\, 28031\, United States
CATEGORIES:Classes
END:VEVENT
BEGIN:VEVENT
DTSTART;TZID=America/New_York:20220926T191500
DTEND;TZID=America/New_York:20220926T204500
DTSTAMP:20260420T170406
CREATED:20220821T001038Z
LAST-MODIFIED:20220821T001038Z
UID:2653-1664219700-1664225100@www.ncyo.com
SUMMARY:Brass Challenge - French Horn Class
DESCRIPTION:
URL:https://www.ncyo.com/event/brass-challenge-french-horn-class-2/
LOCATION:Bailey Middle School\, 11900 Bailey Road\, Cornelius\, NC\, 28031\, United States
CATEGORIES:Classes
END:VEVENT
BEGIN:VEVENT
DTSTART;TZID=America/New_York:20220927T183000
DTEND;TZID=America/New_York:20220927T203000
DTSTAMP:20260420T170406
CREATED:20220807T021948Z
LAST-MODIFIED:20220807T021948Z
UID:2530-1664303400-1664310600@www.ncyo.com
SUMMARY:Rehearsal - Orchestra & Prelude Strings
DESCRIPTION:Prelude Strings – 6:30-7:30pm \nOrchestra – 6:30-8:30pm
URL:https://www.ncyo.com/event/rehearsal-orchestra-prelude-strings-5/
LOCATION:Bailey Middle School\, 11900 Bailey Road\, Cornelius\, NC\, 28031\, United States
CATEGORIES:Rehearsals
END:VEVENT
BEGIN:VEVENT
DTSTART;TZID=America/New_York:20220927T191500
DTEND;TZID=America/New_York:20220927T204500
DTSTAMP:20260420T170406
CREATED:20220821T001303Z
LAST-MODIFIED:20220821T001303Z
UID:2655-1664306100-1664311500@www.ncyo.com
SUMMARY:Brass Challenge - Low Brass Class
DESCRIPTION:
URL:https://www.ncyo.com/event/brass-challenge-low-brass-class-2/
LOCATION:Bailey Middle School\, 11900 Bailey Road\, Cornelius\, NC\, 28031\, United States
CATEGORIES:Classes
END:VEVENT
END:VCALENDAR