BEGIN:VCALENDAR
VERSION:2.0
PRODID:-//North Carolina Youth Orchestra - ECPv6.15.20//NONSGML v1.0//EN
CALSCALE:GREGORIAN
METHOD:PUBLISH
X-ORIGINAL-URL:https://www.ncyo.com
X-WR-CALDESC:Events for North Carolina Youth Orchestra
REFRESH-INTERVAL;VALUE=DURATION:PT1H
X-Robots-Tag:noindex
X-PUBLISHED-TTL:PT1H
BEGIN:VTIMEZONE
TZID:America/New_York
BEGIN:DAYLIGHT
TZOFFSETFROM:-0500
TZOFFSETTO:-0400
TZNAME:EDT
DTSTART:20210314T070000
END:DAYLIGHT
BEGIN:STANDARD
TZOFFSETFROM:-0400
TZOFFSETTO:-0500
TZNAME:EST
DTSTART:20211107T060000
END:STANDARD
BEGIN:DAYLIGHT
TZOFFSETFROM:-0500
TZOFFSETTO:-0400
TZNAME:EDT
DTSTART:20220313T070000
END:DAYLIGHT
BEGIN:STANDARD
TZOFFSETFROM:-0400
TZOFFSETTO:-0500
TZNAME:EST
DTSTART:20221106T060000
END:STANDARD
BEGIN:DAYLIGHT
TZOFFSETFROM:-0500
TZOFFSETTO:-0400
TZNAME:EDT
DTSTART:20230312T070000
END:DAYLIGHT
BEGIN:STANDARD
TZOFFSETFROM:-0400
TZOFFSETTO:-0500
TZNAME:EST
DTSTART:20231105T060000
END:STANDARD
END:VTIMEZONE
BEGIN:VEVENT
DTSTART;TZID=America/New_York:20220201T183000
DTEND;TZID=America/New_York:20220201T203000
DTSTAMP:20260420T080822
CREATED:20211227T015012Z
LAST-MODIFIED:20211227T015012Z
UID:1918-1643740200-1643747400@www.ncyo.com
SUMMARY:Rehearsal
DESCRIPTION:6:30 – 7:30pm: Prelude Strings Rehearsal \n6:30 – 8:30pm: Orchestra Full Rehearsal
URL:https://www.ncyo.com/event/rehearsal-64/
LOCATION:Bailey Middle School\, 11900 Bailey Road\, Cornelius\, NC\, 28031\, United States
CATEGORIES:Rehearsals
END:VEVENT
BEGIN:VEVENT
DTSTART;TZID=America/New_York:20220207T173000
DTEND;TZID=America/New_York:20220207T190000
DTSTAMP:20260420T080822
CREATED:20211227T020318Z
LAST-MODIFIED:20211227T020318Z
UID:1956-1644255000-1644260400@www.ncyo.com
SUMMARY:Rehearsal
DESCRIPTION:5:30 – 7:00pm: Brass Ensemble Rehearsal
URL:https://www.ncyo.com/event/rehearsal-80/
LOCATION:Bailey Middle School\, 11900 Bailey Road\, Cornelius\, NC\, 28031\, United States
CATEGORIES:Rehearsals
END:VEVENT
BEGIN:VEVENT
DTSTART;TZID=America/New_York:20220208T183000
DTEND;TZID=America/New_York:20220208T203000
DTSTAMP:20260420T080822
CREATED:20211227T015037Z
LAST-MODIFIED:20211227T015037Z
UID:1920-1644345000-1644352200@www.ncyo.com
SUMMARY:Rehearsal
DESCRIPTION:6:30 – 7:30pm: Prelude Strings Rehearsal \n6:30 – 8:30pm: Orchestra Full Rehearsal
URL:https://www.ncyo.com/event/rehearsal-65/
LOCATION:Bailey Middle School\, 11900 Bailey Road\, Cornelius\, NC\, 28031\, United States
CATEGORIES:Rehearsals
END:VEVENT
BEGIN:VEVENT
DTSTART;TZID=America/New_York:20220214T173000
DTEND;TZID=America/New_York:20220214T190000
DTSTAMP:20260420T080822
CREATED:20211227T020350Z
LAST-MODIFIED:20211227T020350Z
UID:1958-1644859800-1644865200@www.ncyo.com
SUMMARY:Rehearsal
DESCRIPTION:5:30 – 7:00pm: Brass Ensemble Rehearsal
URL:https://www.ncyo.com/event/rehearsal-81/
LOCATION:Bailey Middle School\, 11900 Bailey Road\, Cornelius\, NC\, 28031\, United States
CATEGORIES:Rehearsals
END:VEVENT
BEGIN:VEVENT
DTSTART;TZID=America/New_York:20220215T183000
DTEND;TZID=America/New_York:20220215T203000
DTSTAMP:20260420T080822
CREATED:20211227T015101Z
LAST-MODIFIED:20211227T015101Z
UID:1922-1644949800-1644957000@www.ncyo.com
SUMMARY:Rehearsal
DESCRIPTION:6:30 – 7:30pm: Prelude Strings Rehearsal \n6:30 – 8:30pm: Orchestra Full Rehearsal
URL:https://www.ncyo.com/event/rehearsal-66/
LOCATION:Bailey Middle School\, 11900 Bailey Road\, Cornelius\, NC\, 28031\, United States
CATEGORIES:Rehearsals
END:VEVENT
BEGIN:VEVENT
DTSTART;TZID=America/New_York:20220221T173000
DTEND;TZID=America/New_York:20220221T190000
DTSTAMP:20260420T080822
CREATED:20211227T020419Z
LAST-MODIFIED:20211227T020419Z
UID:1960-1645464600-1645470000@www.ncyo.com
SUMMARY:Rehearsal
DESCRIPTION:5:30 – 7:00pm: Brass Ensemble Rehearsal
URL:https://www.ncyo.com/event/rehearsal-82/
LOCATION:Bailey Middle School\, 11900 Bailey Road\, Cornelius\, NC\, 28031\, United States
CATEGORIES:Rehearsals
END:VEVENT
BEGIN:VEVENT
DTSTART;TZID=America/New_York:20220222T183000
DTEND;TZID=America/New_York:20220222T203000
DTSTAMP:20260420T080822
CREATED:20211227T015128Z
LAST-MODIFIED:20211227T015128Z
UID:1924-1645554600-1645561800@www.ncyo.com
SUMMARY:Rehearsal
DESCRIPTION:6:30 – 7:30pm: Prelude Strings Rehearsal \n6:30 – 8:30pm: Orchestra Full Rehearsal
URL:https://www.ncyo.com/event/rehearsal-67/
LOCATION:Bailey Middle School\, 11900 Bailey Road\, Cornelius\, NC\, 28031\, United States
CATEGORIES:Rehearsals
END:VEVENT
BEGIN:VEVENT
DTSTART;TZID=America/New_York:20220228T173000
DTEND;TZID=America/New_York:20220228T190000
DTSTAMP:20260420T080822
CREATED:20211227T020447Z
LAST-MODIFIED:20211227T020447Z
UID:1962-1646069400-1646074800@www.ncyo.com
SUMMARY:Rehearsal
DESCRIPTION:5:30 – 7:00pm: Brass Ensemble Rehearsal
URL:https://www.ncyo.com/event/rehearsal-83/
LOCATION:Bailey Middle School\, 11900 Bailey Road\, Cornelius\, NC\, 28031\, United States
CATEGORIES:Rehearsals
END:VEVENT
END:VCALENDAR