BEGIN:VCALENDAR
VERSION:2.0
PRODID:-//North Carolina Youth Orchestra - ECPv6.15.20//NONSGML v1.0//EN
CALSCALE:GREGORIAN
METHOD:PUBLISH
X-WR-CALNAME:North Carolina Youth Orchestra
X-ORIGINAL-URL:https://www.ncyo.com
X-WR-CALDESC:Events for North Carolina Youth Orchestra
REFRESH-INTERVAL;VALUE=DURATION:PT1H
X-Robots-Tag:noindex
X-PUBLISHED-TTL:PT1H
BEGIN:VTIMEZONE
TZID:America/New_York
BEGIN:DAYLIGHT
TZOFFSETFROM:-0500
TZOFFSETTO:-0400
TZNAME:EDT
DTSTART:20190310T070000
END:DAYLIGHT
BEGIN:STANDARD
TZOFFSETFROM:-0400
TZOFFSETTO:-0500
TZNAME:EST
DTSTART:20191103T060000
END:STANDARD
BEGIN:DAYLIGHT
TZOFFSETFROM:-0500
TZOFFSETTO:-0400
TZNAME:EDT
DTSTART:20200308T070000
END:DAYLIGHT
BEGIN:STANDARD
TZOFFSETFROM:-0400
TZOFFSETTO:-0500
TZNAME:EST
DTSTART:20201101T060000
END:STANDARD
BEGIN:DAYLIGHT
TZOFFSETFROM:-0500
TZOFFSETTO:-0400
TZNAME:EDT
DTSTART:20210314T070000
END:DAYLIGHT
BEGIN:STANDARD
TZOFFSETFROM:-0400
TZOFFSETTO:-0500
TZNAME:EST
DTSTART:20211107T060000
END:STANDARD
END:VTIMEZONE
BEGIN:VEVENT
DTSTART;TZID=America/New_York:20200107T183000
DTEND;TZID=America/New_York:20200107T193000
DTSTAMP:20260425T110422
CREATED:20191204T201507Z
LAST-MODIFIED:20191204T201507Z
UID:797-1578421800-1578425400@www.ncyo.com
SUMMARY:Open House!
DESCRIPTION:6:30 – 7:30 pm \nSwing by to meet us in person and get answers to any and all questions you may have regarding the CYO!
URL:https://www.ncyo.com/event/open-house-8/
LOCATION:Bailey Middle School\, 11900 Bailey Road\, Cornelius\, NC\, 28031\, United States
CATEGORIES:Miscellaneous
END:VEVENT
BEGIN:VEVENT
DTSTART;TZID=America/New_York:20200107T183000
DTEND;TZID=America/New_York:20200107T203000
DTSTAMP:20260425T110422
CREATED:20191219T211524Z
LAST-MODIFIED:20191219T211524Z
UID:840-1578421800-1578429000@www.ncyo.com
SUMMARY:Rehearsal
DESCRIPTION:6:30 – 7:30pm: Sectionals (Orchestra) \n6:30 – 7:45pm: Prelude Strings Rehearsal \n7:30 – 8:30pm: Full Rehearsal \n  \nAll CYO rehearsals and concerts are handicap accessible!
URL:https://www.ncyo.com/event/rehearsal-25/
LOCATION:Bailey Middle School\, 11900 Bailey Road\, Cornelius\, NC\, 28031\, United States
CATEGORIES:Rehearsals
END:VEVENT
BEGIN:VEVENT
DTSTART;TZID=America/New_York:20200114T183000
DTEND;TZID=America/New_York:20200114T193000
DTSTAMP:20260425T110422
CREATED:20191204T201552Z
LAST-MODIFIED:20191204T201552Z
UID:800-1579026600-1579030200@www.ncyo.com
SUMMARY:Open House!
DESCRIPTION:6:30 – 7:30 pm \nSwing by to meet us in person and get answers to any and all questions you may have regarding the CYO!
URL:https://www.ncyo.com/event/open-house-9/
LOCATION:Bailey Middle School\, 11900 Bailey Road\, Cornelius\, NC\, 28031\, United States
CATEGORIES:Miscellaneous
END:VEVENT
BEGIN:VEVENT
DTSTART;TZID=America/New_York:20200114T183000
DTEND;TZID=America/New_York:20200114T203000
DTSTAMP:20260425T110422
CREATED:20191220T011854Z
LAST-MODIFIED:20191220T011854Z
UID:842-1579026600-1579033800@www.ncyo.com
SUMMARY:Rehearsal
DESCRIPTION:6:30 – 7:30pm: Sectionals (Orchestra) \n6:30 – 7:45pm: Prelude Strings Rehearsal \n7:30 – 8:30pm: Full Rehearsal \n  \nAll CYO rehearsals and concerts are handicap accessible!
URL:https://www.ncyo.com/event/rehearsal-29/
LOCATION:Bailey Middle School\, 11900 Bailey Road\, Cornelius\, NC\, 28031\, United States
CATEGORIES:Rehearsals
END:VEVENT
BEGIN:VEVENT
DTSTART;TZID=America/New_York:20200121T183000
DTEND;TZID=America/New_York:20200121T193000
DTSTAMP:20260425T110422
CREATED:20191204T201624Z
LAST-MODIFIED:20191204T201624Z
UID:802-1579631400-1579635000@www.ncyo.com
SUMMARY:Open House!
DESCRIPTION:6:30 – 7:30 pm \nSwing by to meet us in person and get answers to any and all questions you may have regarding the CYO!
URL:https://www.ncyo.com/event/open-house-10/
LOCATION:Bailey Middle School\, 11900 Bailey Road\, Cornelius\, NC\, 28031\, United States
CATEGORIES:Miscellaneous
END:VEVENT
BEGIN:VEVENT
DTSTART;TZID=America/New_York:20200121T183000
DTEND;TZID=America/New_York:20200121T203000
DTSTAMP:20260425T110422
CREATED:20191220T011929Z
LAST-MODIFIED:20191220T011929Z
UID:844-1579631400-1579638600@www.ncyo.com
SUMMARY:Rehearsal
DESCRIPTION:6:30 – 7:30pm: Sectionals (Orchestra) \n6:30 – 7:45pm: Prelude Strings Rehearsal \n7:30 – 8:30pm: Full Rehearsal \n  \nAll CYO rehearsals and concerts are handicap accessible!
URL:https://www.ncyo.com/event/rehearsal-30/
LOCATION:Bailey Middle School\, 11900 Bailey Road\, Cornelius\, NC\, 28031\, United States
CATEGORIES:Rehearsals
END:VEVENT
BEGIN:VEVENT
DTSTART;TZID=America/New_York:20200128T183000
DTEND;TZID=America/New_York:20200128T203000
DTSTAMP:20260425T110422
CREATED:20191220T012024Z
LAST-MODIFIED:20191220T012024Z
UID:846-1580236200-1580243400@www.ncyo.com
SUMMARY:Rehearsal
DESCRIPTION:6:30 – 7:30pm: Sectionals (Orchestra) \n6:30 – 7:45pm: Prelude Strings Rehearsal \n7:30 – 8:30pm: Full Rehearsal \n  \nAll CYO rehearsals and concerts are handicap accessible!
URL:https://www.ncyo.com/event/rehearsal-31/
LOCATION:Bailey Middle School\, 11900 Bailey Road\, Cornelius\, NC\, 28031\, United States
CATEGORIES:Rehearsals
END:VEVENT
END:VCALENDAR