BEGIN:VCALENDAR
VERSION:2.0
PRODID:-//North Carolina Youth Orchestra - ECPv6.15.20//NONSGML v1.0//EN
CALSCALE:GREGORIAN
METHOD:PUBLISH
X-ORIGINAL-URL:https://www.ncyo.com
X-WR-CALDESC:Events for North Carolina Youth Orchestra
REFRESH-INTERVAL;VALUE=DURATION:PT1H
X-Robots-Tag:noindex
X-PUBLISHED-TTL:PT1H
BEGIN:VTIMEZONE
TZID:America/New_York
BEGIN:DAYLIGHT
TZOFFSETFROM:-0500
TZOFFSETTO:-0400
TZNAME:EDT
DTSTART:20180311T070000
END:DAYLIGHT
BEGIN:STANDARD
TZOFFSETFROM:-0400
TZOFFSETTO:-0500
TZNAME:EST
DTSTART:20181104T060000
END:STANDARD
BEGIN:DAYLIGHT
TZOFFSETFROM:-0500
TZOFFSETTO:-0400
TZNAME:EDT
DTSTART:20190310T070000
END:DAYLIGHT
BEGIN:STANDARD
TZOFFSETFROM:-0400
TZOFFSETTO:-0500
TZNAME:EST
DTSTART:20191103T060000
END:STANDARD
BEGIN:DAYLIGHT
TZOFFSETFROM:-0500
TZOFFSETTO:-0400
TZNAME:EDT
DTSTART:20200308T070000
END:DAYLIGHT
BEGIN:STANDARD
TZOFFSETFROM:-0400
TZOFFSETTO:-0500
TZNAME:EST
DTSTART:20201101T060000
END:STANDARD
END:VTIMEZONE
BEGIN:VEVENT
DTSTART;TZID=America/New_York:20191203T183000
DTEND;TZID=America/New_York:20191203T203000
DTSTAMP:20260425T123342
CREATED:20191017T192409Z
LAST-MODIFIED:20191017T192409Z
UID:690-1575397800-1575405000@www.ncyo.com
SUMMARY:Rehearsal
DESCRIPTION:6:30 – 7:30pm: Sectionals (Orchestra) \n6:30 – 7:45pm: Prelude Strings Rehearsal \n7:30 – 8:30pm: Full Rehearsal \n  \nAll CYO rehearsals and concerts are handicap accessible!
URL:https://www.ncyo.com/event/rehearsal-27/
LOCATION:Bailey Middle School\, 11900 Bailey Road\, Cornelius\, NC\, 28031\, United States
CATEGORIES:Rehearsals
END:VEVENT
BEGIN:VEVENT
DTSTART;TZID=America/New_York:20191210T183000
DTEND;TZID=America/New_York:20191210T203000
DTSTAMP:20260425T123342
CREATED:20191017T192444Z
LAST-MODIFIED:20191017T192444Z
UID:692-1576002600-1576009800@www.ncyo.com
SUMMARY:Rehearsal
DESCRIPTION:6:30 – 7:30pm: Sectionals (Orchestra) \n6:30 – 7:45pm: Prelude Strings Rehearsal \n7:30 – 8:30pm: Full Rehearsal \n  \nAll CYO rehearsals and concerts are handicap accessible!
URL:https://www.ncyo.com/event/rehearsal-28/
LOCATION:Bailey Middle School\, 11900 Bailey Road\, Cornelius\, NC\, 28031\, United States
CATEGORIES:Rehearsals
END:VEVENT
BEGIN:VEVENT
DTSTART;TZID=America/New_York:20191217T193000
DTEND;TZID=America/New_York:20191217T203000
DTSTAMP:20260425T123342
CREATED:20191204T200826Z
LAST-MODIFIED:20191204T200826Z
UID:793-1576611000-1576614600@www.ncyo.com
SUMMARY:"Seasonal Classics" - Concert
DESCRIPTION:Concert – 7:30pm \nJoe V. Knox Auditorium at the Charles Mack Citizen Center \nStudents\, please arrive at 6:30pm.
URL:https://www.ncyo.com/event/seasonal-classics-concert/
LOCATION:Joe V. Knox Auditorium @ Charles Mack Citizen Center\, 215 N Main St\, Mooresville\, NC\, 28115\, United States
CATEGORIES:Concerts
END:VEVENT
END:VCALENDAR