BEGIN:VCALENDAR
VERSION:2.0
PRODID:-//North Carolina Youth Orchestra - ECPv6.15.20//NONSGML v1.0//EN
CALSCALE:GREGORIAN
METHOD:PUBLISH
X-ORIGINAL-URL:https://www.ncyo.com
X-WR-CALDESC:Events for North Carolina Youth Orchestra
REFRESH-INTERVAL;VALUE=DURATION:PT1H
X-Robots-Tag:noindex
X-PUBLISHED-TTL:PT1H
BEGIN:VTIMEZONE
TZID:America/New_York
BEGIN:DAYLIGHT
TZOFFSETFROM:-0500
TZOFFSETTO:-0400
TZNAME:EDT
DTSTART:20180311T070000
END:DAYLIGHT
BEGIN:STANDARD
TZOFFSETFROM:-0400
TZOFFSETTO:-0500
TZNAME:EST
DTSTART:20181104T060000
END:STANDARD
BEGIN:DAYLIGHT
TZOFFSETFROM:-0500
TZOFFSETTO:-0400
TZNAME:EDT
DTSTART:20190310T070000
END:DAYLIGHT
BEGIN:STANDARD
TZOFFSETFROM:-0400
TZOFFSETTO:-0500
TZNAME:EST
DTSTART:20191103T060000
END:STANDARD
BEGIN:DAYLIGHT
TZOFFSETFROM:-0500
TZOFFSETTO:-0400
TZNAME:EDT
DTSTART:20200308T070000
END:DAYLIGHT
BEGIN:STANDARD
TZOFFSETFROM:-0400
TZOFFSETTO:-0500
TZNAME:EST
DTSTART:20201101T060000
END:STANDARD
BEGIN:DAYLIGHT
TZOFFSETFROM:-0500
TZOFFSETTO:-0400
TZNAME:EDT
DTSTART:20210314T070000
END:DAYLIGHT
BEGIN:STANDARD
TZOFFSETFROM:-0400
TZOFFSETTO:-0500
TZNAME:EST
DTSTART:20211107T060000
END:STANDARD
BEGIN:DAYLIGHT
TZOFFSETFROM:-0500
TZOFFSETTO:-0400
TZNAME:EDT
DTSTART:20220313T070000
END:DAYLIGHT
BEGIN:STANDARD
TZOFFSETFROM:-0400
TZOFFSETTO:-0500
TZNAME:EST
DTSTART:20221106T060000
END:STANDARD
BEGIN:DAYLIGHT
TZOFFSETFROM:-0500
TZOFFSETTO:-0400
TZNAME:EDT
DTSTART:20230312T070000
END:DAYLIGHT
BEGIN:STANDARD
TZOFFSETFROM:-0400
TZOFFSETTO:-0500
TZNAME:EST
DTSTART:20231105T060000
END:STANDARD
END:VTIMEZONE
BEGIN:VEVENT
DTSTART;TZID=America/New_York:20221126T160000
DTEND;TZID=America/New_York:20221126T170000
DTSTAMP:20260423T051407
CREATED:20221015T222928Z
LAST-MODIFIED:20221015T222928Z
UID:3058-1669478400-1669482000@www.ncyo.com
SUMMARY:Light Up Cornelius!
DESCRIPTION:As is tradition\, the CYO will be kicking off the exciting Light Up Cornelius! festival once again this year! The performance will begin at 4pm\, so students should plan to arrive at 3:30pm. More details will be made available.
URL:https://www.ncyo.com/event/light-up-cornelius/
LOCATION:Cornelius Town Hall\, 21445 Catawba Ave\, Cornelius\, NC\, 28031\, United States
CATEGORIES:Miscellaneous
END:VEVENT
BEGIN:VEVENT
DTSTART;TZID=America/New_York:20221117T080000
DTEND;TZID=America/New_York:20221117T170000
DTSTAMP:20260423T051407
CREATED:20221015T222533Z
LAST-MODIFIED:20221015T222533Z
UID:3056-1668672000-1668704400@www.ncyo.com
SUMMARY:Community Event: The Pines
DESCRIPTION:The CYO has the privilege of providing music for members of the Pines community!
URL:https://www.ncyo.com/event/community-event-the-pines/
CATEGORIES:Miscellaneous
END:VEVENT
BEGIN:VEVENT
DTSTART;TZID=America/New_York:20221110T180000
DTEND;TZID=America/New_York:20221110T190000
DTSTAMP:20260423T051407
CREATED:20221015T222331Z
LAST-MODIFIED:20221015T222331Z
UID:3054-1668103200-1668106800@www.ncyo.com
SUMMARY:Community Event: Southern Christmas Show!
DESCRIPTION:The Cornelius Youth Orchestras string quartet will be performing at the Southern Christmas Show on Thursday\, November 10th. Come on out and join us!
URL:https://www.ncyo.com/event/community-event-southern-christmas-show/
CATEGORIES:Miscellaneous
END:VEVENT
BEGIN:VEVENT
DTSTART;TZID=America/New_York:20220830T194500
DTEND;TZID=America/New_York:20220830T203000
DTSTAMP:20260423T051407
CREATED:20220826T013617Z
LAST-MODIFIED:20220826T013617Z
UID:2703-1661888700-1661891400@www.ncyo.com
SUMMARY:CYO Parent Meeting
DESCRIPTION:Mr. Eric will be hosting this meeting for all CYO parents this coming Tuesday evening at 7:45pm to give an overview of the season ahead and open the floor to take any questions and feedback as we start this new season. Coffee and donuts will be provided! We look forward to seeing you there!
URL:https://www.ncyo.com/event/cyo-parent-meeting/
LOCATION:Bailey Middle School\, 11900 Bailey Road\, Cornelius\, NC\, 28031\, United States
CATEGORIES:Miscellaneous
END:VEVENT
BEGIN:VEVENT
DTSTART;TZID=America/New_York:20220519T180000
DTEND;TZID=America/New_York:20220519T210000
DTSTAMP:20260423T051407
CREATED:20220516T195554Z
LAST-MODIFIED:20220516T195709Z
UID:2367-1652983200-1652994000@www.ncyo.com
SUMMARY:CYO End of Year Party!
DESCRIPTION:The CYO End of Season party will be hosted at Lake Forest Church Huntersville (8519 Gilead Road\, Huntersville NC 28078) THIS THURSDAY May 19th from 6:30-9:00pm.  There will be PIZZA!  GAMES!  PRIZES!!!  Come prepared to have fun!  Looking forward to a great time for our students!  If you have any questions\, contact April Dunn at 864-567-9583
URL:https://www.ncyo.com/event/cyo-end-of-year-party/
LOCATION:Lake Forest Church Huntersville\, 8519 Gilead Rd\, Huntersville\, NC\, 28078\, United States
CATEGORIES:Miscellaneous
END:VEVENT
BEGIN:VEVENT
DTSTART;TZID=America/New_York:20211214T183000
DTEND;TZID=America/New_York:20211214T210000
DTSTAMP:20260423T051407
CREATED:20211117T182810Z
LAST-MODIFIED:20211117T182810Z
UID:1722-1639506600-1639515600@www.ncyo.com
SUMMARY:Christmas Holiday Party
DESCRIPTION:
URL:https://www.ncyo.com/event/christmas-holiday-party/
LOCATION:Lake Forest Church Huntersville\, 8519 Gilead Rd\, Huntersville\, NC\, 28078\, United States
CATEGORIES:Miscellaneous
END:VEVENT
BEGIN:VEVENT
DTSTART;TZID=America/New_York:20200121T183000
DTEND;TZID=America/New_York:20200121T193000
DTSTAMP:20260423T051407
CREATED:20191204T201624Z
LAST-MODIFIED:20191204T201624Z
UID:802-1579631400-1579635000@www.ncyo.com
SUMMARY:Open House!
DESCRIPTION:6:30 – 7:30 pm \nSwing by to meet us in person and get answers to any and all questions you may have regarding the CYO!
URL:https://www.ncyo.com/event/open-house-10/
LOCATION:Bailey Middle School\, 11900 Bailey Road\, Cornelius\, NC\, 28031\, United States
CATEGORIES:Miscellaneous
END:VEVENT
BEGIN:VEVENT
DTSTART;TZID=America/New_York:20200114T183000
DTEND;TZID=America/New_York:20200114T193000
DTSTAMP:20260423T051407
CREATED:20191204T201552Z
LAST-MODIFIED:20191204T201552Z
UID:800-1579026600-1579030200@www.ncyo.com
SUMMARY:Open House!
DESCRIPTION:6:30 – 7:30 pm \nSwing by to meet us in person and get answers to any and all questions you may have regarding the CYO!
URL:https://www.ncyo.com/event/open-house-9/
LOCATION:Bailey Middle School\, 11900 Bailey Road\, Cornelius\, NC\, 28031\, United States
CATEGORIES:Miscellaneous
END:VEVENT
BEGIN:VEVENT
DTSTART;TZID=America/New_York:20200107T183000
DTEND;TZID=America/New_York:20200107T193000
DTSTAMP:20260423T051407
CREATED:20191204T201507Z
LAST-MODIFIED:20191204T201507Z
UID:797-1578421800-1578425400@www.ncyo.com
SUMMARY:Open House!
DESCRIPTION:6:30 – 7:30 pm \nSwing by to meet us in person and get answers to any and all questions you may have regarding the CYO!
URL:https://www.ncyo.com/event/open-house-8/
LOCATION:Bailey Middle School\, 11900 Bailey Road\, Cornelius\, NC\, 28031\, United States
CATEGORIES:Miscellaneous
END:VEVENT
BEGIN:VEVENT
DTSTART;TZID=America/New_York:20190618T183000
DTEND;TZID=America/New_York:20190618T193000
DTSTAMP:20260423T051407
CREATED:20190528T172209Z
LAST-MODIFIED:20190528T172209Z
UID:400-1560882600-1560886200@www.ncyo.com
SUMMARY:Open House!
DESCRIPTION:
URL:https://www.ncyo.com/event/open-house-7/
LOCATION:Bailey Middle School\, 11900 Bailey Road\, Cornelius\, NC\, 28031\, United States
CATEGORIES:Miscellaneous
END:VEVENT
BEGIN:VEVENT
DTSTART;TZID=America/New_York:20190611T183000
DTEND;TZID=America/New_York:20190611T193000
DTSTAMP:20260423T051407
CREATED:20190528T172130Z
LAST-MODIFIED:20190528T172130Z
UID:398-1560277800-1560281400@www.ncyo.com
SUMMARY:Open House!
DESCRIPTION:
URL:https://www.ncyo.com/event/open-house-6/
LOCATION:Bailey Middle School\, 11900 Bailey Road\, Cornelius\, NC\, 28031\, United States
CATEGORIES:Miscellaneous
END:VEVENT
BEGIN:VEVENT
DTSTART;TZID=America/New_York:20190604T183000
DTEND;TZID=America/New_York:20190604T193000
DTSTAMP:20260423T051407
CREATED:20190417T030328Z
LAST-MODIFIED:20190417T030328Z
UID:339-1559673000-1559676600@www.ncyo.com
SUMMARY:Open House!
DESCRIPTION:6:30 – 7:30pm – Open House \nSwing by to meet us in person and get answers to any and all questions you may have regarding the CYO!
URL:https://www.ncyo.com/event/open-house-5/
LOCATION:Bailey Middle School\, 11900 Bailey Road\, Cornelius\, NC\, 28031\, United States
CATEGORIES:Miscellaneous
END:VEVENT
BEGIN:VEVENT
DTSTART;TZID=America/New_York:20190528T183000
DTEND;TZID=America/New_York:20190528T193000
DTSTAMP:20260423T051407
CREATED:20190417T030218Z
LAST-MODIFIED:20190417T030218Z
UID:337-1559068200-1559071800@www.ncyo.com
SUMMARY:Open House!
DESCRIPTION:6:30 – 7:30pm – Open House \nSwing by to meet us in person and get answers to any and all questions you may have regarding the CYO!
URL:https://www.ncyo.com/event/open-house-4/
LOCATION:Bailey Middle School\, 11900 Bailey Road\, Cornelius\, NC\, 28031\, United States
CATEGORIES:Miscellaneous
END:VEVENT
BEGIN:VEVENT
DTSTART;TZID=America/New_York:20190521T183000
DTEND;TZID=America/New_York:20190521T193000
DTSTAMP:20260423T051407
CREATED:20190417T030131Z
LAST-MODIFIED:20190417T030131Z
UID:334-1558463400-1558467000@www.ncyo.com
SUMMARY:Open House!
DESCRIPTION:6:30 – 7:30pm – Open House \nSwing by to meet us in person and get answers to any and all questions you may have regarding the CYO!
URL:https://www.ncyo.com/event/open-house-3/
LOCATION:Bailey Middle School\, 11900 Bailey Road\, Cornelius\, NC\, 28031\, United States
CATEGORIES:Miscellaneous
END:VEVENT
BEGIN:VEVENT
DTSTART;TZID=America/New_York:20190507T183000
DTEND;TZID=America/New_York:20190507T193000
DTSTAMP:20260423T051407
CREATED:20190417T030049Z
LAST-MODIFIED:20190417T030049Z
UID:332-1557253800-1557257400@www.ncyo.com
SUMMARY:Open House!
DESCRIPTION:6:30 – 7:30pm – Open House \nSwing by to meet us in person and get answers to any and all questions you may have regarding the CYO!
URL:https://www.ncyo.com/event/open-house-2/
LOCATION:Bailey Middle School\, 11900 Bailey Road\, Cornelius\, NC\, 28031\, United States
CATEGORIES:Miscellaneous
END:VEVENT
BEGIN:VEVENT
DTSTART;TZID=America/New_York:20190430T183000
DTEND;TZID=America/New_York:20190430T193000
DTSTAMP:20260423T051407
CREATED:20190417T025951Z
LAST-MODIFIED:20190417T025951Z
UID:330-1556649000-1556652600@www.ncyo.com
SUMMARY:Open House!
DESCRIPTION:6:30 – 7:30pm – Open House \nSwing by to meet us in person and get answers to any and all questions you may have regarding the CYO!
URL:https://www.ncyo.com/event/open-house/
LOCATION:Bailey Middle School\, 11900 Bailey Road\, Cornelius\, NC\, 28031\, United States
CATEGORIES:Miscellaneous
END:VEVENT
END:VCALENDAR