BEGIN:VCALENDAR
VERSION:2.0
PRODID:-//North Carolina Youth Orchestra - ECPv6.15.20//NONSGML v1.0//EN
CALSCALE:GREGORIAN
METHOD:PUBLISH
X-WR-CALNAME:North Carolina Youth Orchestra
X-ORIGINAL-URL:https://www.ncyo.com
X-WR-CALDESC:Events for North Carolina Youth Orchestra
REFRESH-INTERVAL;VALUE=DURATION:PT1H
X-Robots-Tag:noindex
X-PUBLISHED-TTL:PT1H
BEGIN:VTIMEZONE
TZID:America/New_York
BEGIN:DAYLIGHT
TZOFFSETFROM:-0500
TZOFFSETTO:-0400
TZNAME:EDT
DTSTART:20240310T070000
END:DAYLIGHT
BEGIN:STANDARD
TZOFFSETFROM:-0400
TZOFFSETTO:-0500
TZNAME:EST
DTSTART:20241103T060000
END:STANDARD
BEGIN:DAYLIGHT
TZOFFSETFROM:-0500
TZOFFSETTO:-0400
TZNAME:EDT
DTSTART:20250309T070000
END:DAYLIGHT
BEGIN:STANDARD
TZOFFSETFROM:-0400
TZOFFSETTO:-0500
TZNAME:EST
DTSTART:20251102T060000
END:STANDARD
BEGIN:DAYLIGHT
TZOFFSETFROM:-0500
TZOFFSETTO:-0400
TZNAME:EDT
DTSTART:20260308T070000
END:DAYLIGHT
BEGIN:STANDARD
TZOFFSETFROM:-0400
TZOFFSETTO:-0500
TZNAME:EST
DTSTART:20261101T060000
END:STANDARD
END:VTIMEZONE
BEGIN:VEVENT
DTSTART;TZID=America/New_York:20250301T090000
DTEND;TZID=America/New_York:20250301T110000
DTSTAMP:20260424T051257
CREATED:20250123T153952Z
LAST-MODIFIED:20250123T153952Z
UID:7609-1740819600-1740826800@www.ncyo.com
SUMMARY:Instrument Discovery Day
DESCRIPTION:
URL:https://www.ncyo.com/event/instrument-discovery-day-2/
LOCATION:Bailey Middle School\, 11900 Bailey Road\, Cornelius\, NC\, 28031\, United States
CATEGORIES:Miscellaneous
ORGANIZER;CN="Cornelius Youth Orchestas":MAILTO:info@corneliusyouthorchestras.com
END:VEVENT
END:VCALENDAR