BEGIN:VCALENDAR
VERSION:2.0
PRODID:-//North Carolina Youth Orchestra - ECPv6.15.20//NONSGML v1.0//EN
CALSCALE:GREGORIAN
METHOD:PUBLISH
X-ORIGINAL-URL:https://www.ncyo.com
X-WR-CALDESC:Events for North Carolina Youth Orchestra
REFRESH-INTERVAL;VALUE=DURATION:PT1H
X-Robots-Tag:noindex
X-PUBLISHED-TTL:PT1H
BEGIN:VTIMEZONE
TZID:America/New_York
BEGIN:DAYLIGHT
TZOFFSETFROM:-0500
TZOFFSETTO:-0400
TZNAME:EDT
DTSTART:20210314T070000
END:DAYLIGHT
BEGIN:STANDARD
TZOFFSETFROM:-0400
TZOFFSETTO:-0500
TZNAME:EST
DTSTART:20211107T060000
END:STANDARD
BEGIN:DAYLIGHT
TZOFFSETFROM:-0500
TZOFFSETTO:-0400
TZNAME:EDT
DTSTART:20220313T070000
END:DAYLIGHT
BEGIN:STANDARD
TZOFFSETFROM:-0400
TZOFFSETTO:-0500
TZNAME:EST
DTSTART:20221106T060000
END:STANDARD
BEGIN:DAYLIGHT
TZOFFSETFROM:-0500
TZOFFSETTO:-0400
TZNAME:EDT
DTSTART:20230312T070000
END:DAYLIGHT
BEGIN:STANDARD
TZOFFSETFROM:-0400
TZOFFSETTO:-0500
TZNAME:EST
DTSTART:20231105T060000
END:STANDARD
END:VTIMEZONE
BEGIN:VEVENT
DTSTART;TZID=America/New_York:20221108T183000
DTEND;TZID=America/New_York:20221108T203000
DTSTAMP:20260423T101710
CREATED:20220807T024838Z
LAST-MODIFIED:20220807T024838Z
UID:2554-1667932200-1667939400@www.ncyo.com
SUMMARY:Rehearsal - Orchestra & Prelude Strings
DESCRIPTION:Prelude Strings – 6:30-7:30pm \nOrchestra – 6:30-8:30pm
URL:https://www.ncyo.com/event/rehearsal-orchestra-prelude-strings-11/
LOCATION:Bailey Middle School\, 11900 Bailey Road\, Cornelius\, NC\, 28031\, United States
CATEGORIES:Rehearsals
END:VEVENT
BEGIN:VEVENT
DTSTART;TZID=America/New_York:20221108T183000
DTEND;TZID=America/New_York:20221108T203000
DTSTAMP:20260423T101710
CREATED:20221015T222105Z
LAST-MODIFIED:20221015T222105Z
UID:3052-1667932200-1667939400@www.ncyo.com
SUMMARY:Fall Concert 2022
DESCRIPTION:Concert – 7:30pm \nJoe V. Knox Auditorium at the Charles Mack Citizen Center \nStudents\, please arrive at 6:30pm.
URL:https://www.ncyo.com/event/fall-concert-2022/
LOCATION:Joe V. Knox Auditorium @ Charles Mack Citizen Center\, 215 N Main St\, Mooresville\, NC\, 28115\, United States
CATEGORIES:Concerts
END:VEVENT
END:VCALENDAR