BEGIN:VCALENDAR
VERSION:2.0
PRODID:-//North Carolina Youth Orchestra - ECPv6.15.20//NONSGML v1.0//EN
CALSCALE:GREGORIAN
METHOD:PUBLISH
X-ORIGINAL-URL:https://www.ncyo.com
X-WR-CALDESC:Events for North Carolina Youth Orchestra
REFRESH-INTERVAL;VALUE=DURATION:PT1H
X-Robots-Tag:noindex
X-PUBLISHED-TTL:PT1H
BEGIN:VTIMEZONE
TZID:America/New_York
BEGIN:DAYLIGHT
TZOFFSETFROM:-0500
TZOFFSETTO:-0400
TZNAME:EDT
DTSTART:20210314T070000
END:DAYLIGHT
BEGIN:STANDARD
TZOFFSETFROM:-0400
TZOFFSETTO:-0500
TZNAME:EST
DTSTART:20211107T060000
END:STANDARD
BEGIN:DAYLIGHT
TZOFFSETFROM:-0500
TZOFFSETTO:-0400
TZNAME:EDT
DTSTART:20220313T070000
END:DAYLIGHT
BEGIN:STANDARD
TZOFFSETFROM:-0400
TZOFFSETTO:-0500
TZNAME:EST
DTSTART:20221106T060000
END:STANDARD
BEGIN:DAYLIGHT
TZOFFSETFROM:-0500
TZOFFSETTO:-0400
TZNAME:EDT
DTSTART:20230312T070000
END:DAYLIGHT
BEGIN:STANDARD
TZOFFSETFROM:-0400
TZOFFSETTO:-0500
TZNAME:EST
DTSTART:20231105T060000
END:STANDARD
END:VTIMEZONE
BEGIN:VEVENT
DTSTART;TZID=America/New_York:20220927T183000
DTEND;TZID=America/New_York:20220927T203000
DTSTAMP:20260420T183203
CREATED:20220807T021948Z
LAST-MODIFIED:20220807T021948Z
UID:2530-1664303400-1664310600@www.ncyo.com
SUMMARY:Rehearsal - Orchestra & Prelude Strings
DESCRIPTION:Prelude Strings – 6:30-7:30pm \nOrchestra – 6:30-8:30pm
URL:https://www.ncyo.com/event/rehearsal-orchestra-prelude-strings-5/
LOCATION:Bailey Middle School\, 11900 Bailey Road\, Cornelius\, NC\, 28031\, United States
CATEGORIES:Rehearsals
END:VEVENT
BEGIN:VEVENT
DTSTART;TZID=America/New_York:20220927T191500
DTEND;TZID=America/New_York:20220927T204500
DTSTAMP:20260420T183203
CREATED:20220821T001303Z
LAST-MODIFIED:20220821T001303Z
UID:2655-1664306100-1664311500@www.ncyo.com
SUMMARY:Brass Challenge - Low Brass Class
DESCRIPTION:
URL:https://www.ncyo.com/event/brass-challenge-low-brass-class-2/
LOCATION:Bailey Middle School\, 11900 Bailey Road\, Cornelius\, NC\, 28031\, United States
CATEGORIES:Classes
END:VEVENT
END:VCALENDAR