BEGIN:VCALENDAR
VERSION:2.0
PRODID:-//North Carolina Youth Orchestra - ECPv6.15.20//NONSGML v1.0//EN
CALSCALE:GREGORIAN
METHOD:PUBLISH
X-ORIGINAL-URL:https://www.ncyo.com
X-WR-CALDESC:Events for North Carolina Youth Orchestra
REFRESH-INTERVAL;VALUE=DURATION:PT1H
X-Robots-Tag:noindex
X-PUBLISHED-TTL:PT1H
BEGIN:VTIMEZONE
TZID:America/New_York
BEGIN:DAYLIGHT
TZOFFSETFROM:-0500
TZOFFSETTO:-0400
TZNAME:EDT
DTSTART:20210314T070000
END:DAYLIGHT
BEGIN:STANDARD
TZOFFSETFROM:-0400
TZOFFSETTO:-0500
TZNAME:EST
DTSTART:20211107T060000
END:STANDARD
BEGIN:DAYLIGHT
TZOFFSETFROM:-0500
TZOFFSETTO:-0400
TZNAME:EDT
DTSTART:20220313T070000
END:DAYLIGHT
BEGIN:STANDARD
TZOFFSETFROM:-0400
TZOFFSETTO:-0500
TZNAME:EST
DTSTART:20221106T060000
END:STANDARD
BEGIN:DAYLIGHT
TZOFFSETFROM:-0500
TZOFFSETTO:-0400
TZNAME:EDT
DTSTART:20230312T070000
END:DAYLIGHT
BEGIN:STANDARD
TZOFFSETFROM:-0400
TZOFFSETTO:-0500
TZNAME:EST
DTSTART:20231105T060000
END:STANDARD
END:VTIMEZONE
BEGIN:VEVENT
DTSTART;TZID=America/New_York:20220524T183000
DTEND;TZID=America/New_York:20220524T203000
DTSTAMP:20260420T122010
CREATED:20211227T015956Z
LAST-MODIFIED:20220516T195507Z
UID:1952-1653417000-1653424200@www.ncyo.com
SUMMARY:Music from the Movies | CYO 2022 Season Finale Concert
DESCRIPTION:Concert – 7:30pm \nWilliam A. Hough High School \nStudents\, please arrive at 6:30pm.
URL:https://www.ncyo.com/event/summer-concert-2022/
LOCATION:William A. Hough High School\, 12420 Bailey Rd\, Cornelius\, NC\, 28031\, United States
CATEGORIES:Concerts
ATTACH;FMTTYPE=image/jpeg:https://www.ncyo.com/wp-content/uploads/2022/05/cyo-fb-cover-final2022.jpg
END:VEVENT
END:VCALENDAR