BEGIN:VCALENDAR
VERSION:2.0
PRODID:-//North Carolina Youth Orchestra - ECPv6.15.20//NONSGML v1.0//EN
CALSCALE:GREGORIAN
METHOD:PUBLISH
X-WR-CALNAME:North Carolina Youth Orchestra
X-ORIGINAL-URL:https://www.ncyo.com
X-WR-CALDESC:Events for North Carolina Youth Orchestra
REFRESH-INTERVAL;VALUE=DURATION:PT1H
X-Robots-Tag:noindex
X-PUBLISHED-TTL:PT1H
BEGIN:VTIMEZONE
TZID:America/New_York
BEGIN:DAYLIGHT
TZOFFSETFROM:-0500
TZOFFSETTO:-0400
TZNAME:EDT
DTSTART:20210314T070000
END:DAYLIGHT
BEGIN:STANDARD
TZOFFSETFROM:-0400
TZOFFSETTO:-0500
TZNAME:EST
DTSTART:20211107T060000
END:STANDARD
BEGIN:DAYLIGHT
TZOFFSETFROM:-0500
TZOFFSETTO:-0400
TZNAME:EDT
DTSTART:20220313T070000
END:DAYLIGHT
BEGIN:STANDARD
TZOFFSETFROM:-0400
TZOFFSETTO:-0500
TZNAME:EST
DTSTART:20221106T060000
END:STANDARD
BEGIN:DAYLIGHT
TZOFFSETFROM:-0500
TZOFFSETTO:-0400
TZNAME:EDT
DTSTART:20230312T070000
END:DAYLIGHT
BEGIN:STANDARD
TZOFFSETFROM:-0400
TZOFFSETTO:-0500
TZNAME:EST
DTSTART:20231105T060000
END:STANDARD
END:VTIMEZONE
BEGIN:VEVENT
DTSTART;TZID=America/New_York:20220519T180000
DTEND;TZID=America/New_York:20220519T210000
DTSTAMP:20260420T120349
CREATED:20220516T195554Z
LAST-MODIFIED:20220516T195709Z
UID:2367-1652983200-1652994000@www.ncyo.com
SUMMARY:CYO End of Year Party!
DESCRIPTION:The CYO End of Season party will be hosted at Lake Forest Church Huntersville (8519 Gilead Road\, Huntersville NC 28078) THIS THURSDAY May 19th from 6:30-9:00pm.  There will be PIZZA!  GAMES!  PRIZES!!!  Come prepared to have fun!  Looking forward to a great time for our students!  If you have any questions\, contact April Dunn at 864-567-9583
URL:https://www.ncyo.com/event/cyo-end-of-year-party/
LOCATION:Lake Forest Church Huntersville\, 8519 Gilead Rd\, Huntersville\, NC\, 28078\, United States
CATEGORIES:Miscellaneous
END:VEVENT
END:VCALENDAR